BEGIN:VCALENDAR
VERSION:2.0
PRODID:-//Eventin//Event Calendar//EN
CALSCALE:GREGORIAN
METHOD:PUBLISH
BEGIN:VEVENT
UID:2ae337c4ad93a847ce16db49101e5530@lighthouseparker.com
SUMMARY:Spring Bible Study
DESCRIPTION:Join Lighthouse Church for our Spring Bible Study as we journey
  together through the book of Romans by Jada Edwards. This is a great oppor
 tunity to grow deeper in your understanding of Scripture\, strengthen your 
 faith\, and connect with others in a meaningful and encouraging environment
 . Whether you are new to Bible study or have been studying for years\, this
  gathering is designed to help you engage God’s Word in a practical and l
 ife-giving way. Sessions will be held at the Lighthouse Ministry Center\, w
 ith Tuesday classes meeting on April 7\, 14\, 21\, and 28\, and Thursday cl
 asses on April 2\, 9\, 16\, and 23\, from 9:30 AM to 11:00 AM. Come ready t
 o learn\, grow\, and be refreshed as we study God’s Word together.
LOCATION:Lighthouse Church\, 22219 Hilltop Rd. Parker\, CO 80138
DTSTAMP:20260424T153818Z
DTSTART:20260402T153000Z
DTEND:20260428T170000Z
END:VEVENT
END:VCALENDAR
