BEGIN:VCALENDAR
VERSION:2.0
PRODID:-//Eventin//Event Calendar//EN
CALSCALE:GREGORIAN
METHOD:PUBLISH
BEGIN:VEVENT
UID:bce06e1ea02dae07407cd0dd9a8c3d6d@lighthouseparker.com
SUMMARY:Parks &amp\; Reconnection
DESCRIPTION:
LOCATION:Online
DTSTAMP:20260420T045139Z
DTSTART:20240801T093000Z
DTEND:20260420T113000Z
END:VEVENT
END:VCALENDAR
