BEGIN:VCALENDAR
VERSION:2.0
PRODID:-//Eventin//Event Calendar//EN
CALSCALE:GREGORIAN
METHOD:PUBLISH
BEGIN:VEVENT
UID:aa39223d32881d7d9350fe4f0c1fa34b@lighthouseparker.com
SUMMARY:Parks &amp\; Reconnection
DESCRIPTION:
LOCATION:Online
DTSTAMP:20260420T043031Z
DTSTART:20240627T093000Z
DTEND:20260420T113000Z
END:VEVENT
END:VCALENDAR
