BEGIN:VCALENDAR
VERSION:2.0
PRODID:-//Eventin//Event Calendar//EN
CALSCALE:GREGORIAN
METHOD:PUBLISH
BEGIN:VEVENT
UID:f00275c66a19d0a28ba0a11c9c0b7d3f@lighthouseparker.com
SUMMARY:Parks &amp\; Reconnection
DESCRIPTION:
LOCATION:Online
DTSTAMP:20260420T044828Z
DTSTART:20240606T093000Z
DTEND:20260420T113000Z
END:VEVENT
END:VCALENDAR
