BEGIN:VCALENDAR
VERSION:2.0
PRODID:-//Eventin//Event Calendar//EN
CALSCALE:GREGORIAN
METHOD:PUBLISH
BEGIN:VEVENT
UID:da6a4924f76cb9e309cd529f4dc5aefa@lighthouseparker.com
SUMMARY:Annual Church Picnic
DESCRIPTION:REGISTER HERE FOR THE COOK OFF
LOCATION:Online
DTSTAMP:20260420T044849Z
DTSTART:20240630T100000Z
DTEND:20260420T150000Z
END:VEVENT
END:VCALENDAR
