BEGIN:VCALENDAR
VERSION:2.0
PRODID:-//Eventin//Event Calendar//EN
CALSCALE:GREGORIAN
METHOD:PUBLISH
BEGIN:VEVENT
UID:0fa811dfb3b408e5b44dc4768cb1c18b@lighthouseparker.com
SUMMARY:Concert In Sedalia
DESCRIPTION:
LOCATION:Online
DTSTAMP:20260420T045308Z
DTSTART:20240721T000000Z
DTEND:20260420T045308Z
END:VEVENT
END:VCALENDAR
