BEGIN:VCALENDAR
VERSION:2.0
PRODID:-//Eventin//Event Calendar//EN
CALSCALE:GREGORIAN
METHOD:PUBLISH
BEGIN:VEVENT
UID:75cc7331af96d59c688d8b5697adc31f@lighthouseparker.com
SUMMARY:PY Serve Week
DESCRIPTION:
LOCATION:Online
DTSTAMP:20260420T044640Z
DTSTART:20240715T000000Z
DTEND:20260420T044640Z
END:VEVENT
END:VCALENDAR
