BEGIN:VCALENDAR
VERSION:2.0
PRODID:-//Eventin//Event Calendar//EN
CALSCALE:GREGORIAN
METHOD:PUBLISH
BEGIN:VEVENT
UID:0166f56cc20a373155ae1710f0c97b5c@lighthouseparker.com
SUMMARY:Parent Summer Camp Meeting
DESCRIPTION:
LOCATION:Online
DTSTAMP:20260420T045445Z
DTSTART:20240623T000000Z
DTEND:20260420T045445Z
END:VEVENT
END:VCALENDAR
